BEGIN:VCALENDAR
VERSION:2.0
PRODID:-//hacksw/handcal//NONSGML v1.0//EN
BEGIN:VEVENT
SUMMARY:Stage Judo Multisports Aout 2026
UID:8a6d3ee2-53d7-4c22-95d6-1bfef5dafac6
DTSTART:20260823T220000Z
DTEND:20260828T220000Z
LOCATION:Localisation   
CATEGORIES:Sportif
STATUS:
DESCRIPTION:<h1>Stage Judo Multisports Aout 2026 - ouvert hors JCR78
 avec licence</h1>
 
 <h3>🥋 Informations Pratiques du
 Stage</h3>
 
 <ul>
 	<li>
 	<p><b>Age :</b> A partir de 6
 ans</p>
 	</li>
 	<li>
 	<p><b>Encadrement :</b> Coach
 Romeo</p>
 	</li>
 </ul>
 
 <hr>
 <h3>🎒 Equipement a
 prevoir</h3>
 
 <ul>
 	<li>
 	<p><b>Sport :</b> Tenue de sport et
 Kimono.</p>
 	</li>
 	<li>
 	<p><b>Restauration :</b> Pique-nique,
 gouter et gourde.</p>
 	</li>
 </ul>
 
 <hr>
 <h3>⚠️ Conditions
 d'Inscription & Reglement</h3>
 
 <ul>
 	<li>
 	<p><b>Obligation :</b>
 Tous les enfants doivent etre inscrits pour
 participer.</p>
 	</li>
 	<li>
 	<p><b>Paiement :</b> Uniquement via <a
 href="https://www.helloasso.com/associations/judo-chesnay-rocquencourt/evenements/stage-judo-multisports-ao-2026-ouvert-hors-jcr78-avec-licence-2-2-2-2"
 target="_blank" rel="noreferrer noopener"><b>Helloasso</b></a> (les
 especes et cheques ne sont pas acceptes).</p>
 	</li>
 	<li>
 	<p><b>Cas
 particuliers :</b> Pour un paiement en <b>cheques vacances</b>, merci
 d'envoyer un mail au club.</p>
 	</li>
 	<li>
 	<p><b>Stage ouvert a
 tous :</b> Les enfants hors JCR78 sont les bienvenus (<b>licence judo
 obligatoire</b> + envoi d'un mail d'information au
 club).</p>
 	</li>
 </ul>
 
 <hr>
 <h3>💰 Reductions & Codes
 Promo</h3>
 
 <ul>
 	<li>
 	<p><b>Reduction fratrie :</b> <b>-10%</b> a
 partir du 2eme enfant.</p>
 	</li>
 	<li>
 	<p><b>Condition :</b>
 Uniquement valable pour l'inscription a la <b>semaine
 complete</b>.</p>
 	</li>
 	<li>
 	<p><b>Code :</b>
 <code>FRATRIE</code></p>
 	</li>
 </ul>
URL;VALUE=URI:https://www.jcr78.com/evenements/2026/08/24/stage-judo-multisports-aout-2026-2433763
END:VEVENT
END:VCALENDAR
